BEGIN:VCALENDAR
VERSION:2.0
PRODID:-//Greenkeeper Verband Deutschland e. V. - ECPv6.6.2//NONSGML v1.0//EN
CALSCALE:GREGORIAN
METHOD:PUBLISH
X-ORIGINAL-URL:https://greenkeeperverband.de
X-WR-CALDESC:Veranstaltungen für Greenkeeper Verband Deutschland e. V.
REFRESH-INTERVAL;VALUE=DURATION:PT1H
X-Robots-Tag:noindex
X-PUBLISHED-TTL:PT1H
BEGIN:VTIMEZONE
TZID:Europe/Berlin
BEGIN:DAYLIGHT
TZOFFSETFROM:+0100
TZOFFSETTO:+0200
TZNAME:CEST
DTSTART:20250330T010000
END:DAYLIGHT
BEGIN:STANDARD
TZOFFSETFROM:+0200
TZOFFSETTO:+0100
TZNAME:CET
DTSTART:20251026T010000
END:STANDARD
END:VTIMEZONE
BEGIN:VEVENT
DTSTART;VALUE=DATE:20250908
DTEND;VALUE=DATE:20250909
DTSTAMP:20260424T143400
CREATED:20250515T183459Z
LAST-MODIFIED:20250801T123348Z
UID:8113-1757289600-1757375999@greenkeeperverband.de
SUMMARY:Greenkeeper Verband NRW Meisterschaft 2025
DESCRIPTION:Liebe Kolleginnen\, liebe Kollegen wir laden Euch herzlich zur NRW Meisterschaft in den GC Gütersloh ein. \nEinladung \nAusschreibung \n 
URL:https://greenkeeperverband.de/veranstaltung/greenkeeper-verband-nrw-meisterschaft-2025/
LOCATION:Westfälischer Golf-Club Gütersloh e.V.\, Gütersloher Str. 127\, Rietberg\, Nordrhein-Westfalen\, 33397\, Deutschland
CATEGORIES:Golfturnier
END:VEVENT
END:VCALENDAR